BEGIN:VCALENDAR
VERSION:2.0
PRODID:-//Scarborough Rugby Union Football Club - ECPv6.15.20//NONSGML v1.0//EN
CALSCALE:GREGORIAN
METHOD:PUBLISH
X-ORIGINAL-URL:https://scarboroughrugby.co.uk
X-WR-CALDESC:Events for Scarborough Rugby Union Football Club
REFRESH-INTERVAL;VALUE=DURATION:PT1H
X-Robots-Tag:noindex
X-PUBLISHED-TTL:PT1H
BEGIN:VTIMEZONE
TZID:Europe/London
BEGIN:DAYLIGHT
TZOFFSETFROM:+0000
TZOFFSETTO:+0100
TZNAME:BST
DTSTART:20240331T010000
END:DAYLIGHT
BEGIN:STANDARD
TZOFFSETFROM:+0100
TZOFFSETTO:+0000
TZNAME:GMT
DTSTART:20241027T010000
END:STANDARD
BEGIN:DAYLIGHT
TZOFFSETFROM:+0000
TZOFFSETTO:+0100
TZNAME:BST
DTSTART:20250330T010000
END:DAYLIGHT
BEGIN:STANDARD
TZOFFSETFROM:+0100
TZOFFSETTO:+0000
TZNAME:GMT
DTSTART:20251026T010000
END:STANDARD
BEGIN:DAYLIGHT
TZOFFSETFROM:+0000
TZOFFSETTO:+0100
TZNAME:BST
DTSTART:20260329T010000
END:DAYLIGHT
BEGIN:STANDARD
TZOFFSETFROM:+0100
TZOFFSETTO:+0000
TZNAME:GMT
DTSTART:20261025T010000
END:STANDARD
BEGIN:DAYLIGHT
TZOFFSETFROM:+0000
TZOFFSETTO:+0100
TZNAME:BST
DTSTART:20270328T010000
END:DAYLIGHT
BEGIN:STANDARD
TZOFFSETFROM:+0100
TZOFFSETTO:+0000
TZNAME:GMT
DTSTART:20271031T010000
END:STANDARD
END:VTIMEZONE
BEGIN:VEVENT
DTSTART;TZID=Europe/London:20260228T140000
DTEND;TZID=Europe/London:20260228T140000
DTSTAMP:20260422T100703
CREATED:20260112T122503Z
LAST-MODIFIED:20260227T235313Z
UID:10000369-1772287200-1772287200@scarboroughrugby.co.uk
SUMMARY:(H) Valkyries vs York Ladies
DESCRIPTION:
URL:https://scarboroughrugby.co.uk/event/h-valkyries-vs-york-ladies-3/
LOCATION:Scarborough Rugby Union Football Club\, 569 Scalby Road\, Lindhead\, United Kingdom
GEO:54.309778796107;-0.44615579591571
X-APPLE-STRUCTURED-LOCATION;VALUE=URI;X-ADDRESS=Scarborough Rugby Union Football Club 569 Scalby Road Lindhead United Kingdom;X-APPLE-RADIUS=500;X-TITLE=569 Scalby Road:geo:-0.44615579591571,54.309778796107
END:VEVENT
BEGIN:VEVENT
DTSTART;TZID=Europe/London:20260214T141500
DTEND;TZID=Europe/London:20260214T141500
DTSTAMP:20260422T100703
CREATED:20250627T153708Z
LAST-MODIFIED:20260213T223822Z
UID:10000315-1771078500-1771078500@scarboroughrugby.co.uk
SUMMARY:(H) Vikings vs Selby
DESCRIPTION:
URL:https://scarboroughrugby.co.uk/event/a-vikings-vs-selby/
LOCATION:Scarborough Rugby Union Football Club\, 569 Scalby Road\, Lindhead\, United Kingdom
CATEGORIES:Vikings
GEO:54.309778796107;-0.44615579591571
X-APPLE-STRUCTURED-LOCATION;VALUE=URI;X-ADDRESS=Scarborough Rugby Union Football Club 569 Scalby Road Lindhead United Kingdom;X-APPLE-RADIUS=500;X-TITLE=569 Scalby Road:geo:-0.44615579591571,54.309778796107
END:VEVENT
BEGIN:VEVENT
DTSTART;TZID=Europe/London:20260124T141500
DTEND;TZID=Europe/London:20260124T141500
DTSTAMP:20260422T100703
CREATED:20250627T153657Z
LAST-MODIFIED:20260123T231059Z
UID:10000293-1769264100-1769264100@scarboroughrugby.co.uk
SUMMARY:(H) Danesmen vs Bridlington
DESCRIPTION:
URL:https://scarboroughrugby.co.uk/event/a-danesmen-vs-bridlington-3/
LOCATION:Scarborough Rugby Union Football Club\, 569 Scalby Road\, Lindhead\, United Kingdom
CATEGORIES:Danesmen
GEO:54.309778796107;-0.44615579591571
X-APPLE-STRUCTURED-LOCATION;VALUE=URI;X-ADDRESS=Scarborough Rugby Union Football Club 569 Scalby Road Lindhead United Kingdom;X-APPLE-RADIUS=500;X-TITLE=569 Scalby Road:geo:-0.44615579591571,54.309778796107
END:VEVENT
BEGIN:VEVENT
DTSTART;TZID=Europe/London:20251220T141500
DTEND;TZID=Europe/London:20251220T141500
DTSTAMP:20260422T100703
CREATED:20250627T153708Z
LAST-MODIFIED:20251219T220858Z
UID:10000310-1766240100-1766240100@scarboroughrugby.co.uk
SUMMARY:(H) Vikings vs Moortown
DESCRIPTION:
URL:https://scarboroughrugby.co.uk/event/a-vikings-vs-moortown/
LOCATION:Scarborough Rugby Union Football Club\, 569 Scalby Road\, Lindhead\, United Kingdom
CATEGORIES:Vikings
GEO:54.309778796107;-0.44615579591571
X-APPLE-STRUCTURED-LOCATION;VALUE=URI;X-ADDRESS=Scarborough Rugby Union Football Club 569 Scalby Road Lindhead United Kingdom;X-APPLE-RADIUS=500;X-TITLE=569 Scalby Road:geo:-0.44615579591571,54.309778796107
END:VEVENT
BEGIN:VEVENT
DTSTART;TZID=Europe/London:20251206T141500
DTEND;TZID=Europe/London:20251206T141500
DTSTAMP:20260422T100703
CREATED:20250627T153708Z
LAST-MODIFIED:20251205T233916Z
UID:10000308-1765030500-1765030500@scarboroughrugby.co.uk
SUMMARY:(H) Vikings vs Pontefract
DESCRIPTION:
URL:https://scarboroughrugby.co.uk/event/a-vikings-vs-pontefract-2/
LOCATION:Scarborough Rugby Union Football Club\, 569 Scalby Road\, Lindhead\, United Kingdom
CATEGORIES:Vikings
GEO:54.309778796107;-0.44615579591571
X-APPLE-STRUCTURED-LOCATION;VALUE=URI;X-ADDRESS=Scarborough Rugby Union Football Club 569 Scalby Road Lindhead United Kingdom;X-APPLE-RADIUS=500;X-TITLE=569 Scalby Road:geo:-0.44615579591571,54.309778796107
END:VEVENT
BEGIN:VEVENT
DTSTART;TZID=Europe/London:20250927T150000
DTEND;TZID=Europe/London:20250927T150000
DTSTAMP:20260422T100703
CREATED:20250627T153707Z
LAST-MODIFIED:20250926T222330Z
UID:10000302-1758985200-1758985200@scarboroughrugby.co.uk
SUMMARY:(H) Vikings vs York
DESCRIPTION:
URL:https://scarboroughrugby.co.uk/event/a-vikings-vs-york/
LOCATION:Scarborough Rugby Union Football Club\, 569 Scalby Road\, Lindhead\, United Kingdom
CATEGORIES:Vikings
GEO:54.309778796107;-0.44615579591571
X-APPLE-STRUCTURED-LOCATION;VALUE=URI;X-ADDRESS=Scarborough Rugby Union Football Club 569 Scalby Road Lindhead United Kingdom;X-APPLE-RADIUS=500;X-TITLE=569 Scalby Road:geo:-0.44615579591571,54.309778796107
END:VEVENT
BEGIN:VEVENT
DTSTART;TZID=Europe/London:20250823T150000
DTEND;TZID=Europe/London:20250823T150000
DTSTAMP:20260422T100703
CREATED:20250607T233842Z
LAST-MODIFIED:20250621T220831Z
UID:10000256-1755961200-1755961200@scarboroughrugby.co.uk
SUMMARY:(H) 1st XV vs Blaydon
DESCRIPTION:
URL:https://scarboroughrugby.co.uk/event/h-1st-xv-vs-blaydon/
LOCATION:Scarborough Rugby Union Football Club\, 569 Scalby Road\, Lindhead\, United Kingdom
CATEGORIES:1st XV
GEO:54.309778796107;-0.44615579591571
X-APPLE-STRUCTURED-LOCATION;VALUE=URI;X-ADDRESS=Scarborough Rugby Union Football Club 569 Scalby Road Lindhead United Kingdom;X-APPLE-RADIUS=500;X-TITLE=569 Scalby Road:geo:-0.44615579591571,54.309778796107
END:VEVENT
BEGIN:VEVENT
DTSTART;TZID=Europe/London:20250628T140000
DTEND;TZID=Europe/London:20250628T140000
DTSTAMP:20260422T100703
CREATED:20250617T202421Z
LAST-MODIFIED:20250627T221018Z
UID:10000257-1751119200-1751119200@scarboroughrugby.co.uk
SUMMARY:(H) Scarborough vs Ilkley RUFC - Social game
DESCRIPTION:
URL:https://scarboroughrugby.co.uk/event/h-scarborough-vs-ilkley-rufc-social-game/
LOCATION:Scarborough Rugby Union Football Club\, 569 Scalby Road\, Lindhead\, United Kingdom
CATEGORIES:1st XV
GEO:54.309778796107;-0.44615579591571
X-APPLE-STRUCTURED-LOCATION;VALUE=URI;X-ADDRESS=Scarborough Rugby Union Football Club 569 Scalby Road Lindhead United Kingdom;X-APPLE-RADIUS=500;X-TITLE=569 Scalby Road:geo:-0.44615579591571,54.309778796107
END:VEVENT
END:VCALENDAR