BEGIN:VCALENDAR
VERSION:2.0
PRODID:-//Scarborough Rugby Union Football Club - ECPv6.15.20//NONSGML v1.0//EN
CALSCALE:GREGORIAN
METHOD:PUBLISH
X-ORIGINAL-URL:https://scarboroughrugby.co.uk
X-WR-CALDESC:Events for Scarborough Rugby Union Football Club
REFRESH-INTERVAL;VALUE=DURATION:PT1H
X-Robots-Tag:noindex
X-PUBLISHED-TTL:PT1H
BEGIN:VTIMEZONE
TZID:Europe/London
BEGIN:DAYLIGHT
TZOFFSETFROM:+0000
TZOFFSETTO:+0100
TZNAME:BST
DTSTART:20250330T010000
END:DAYLIGHT
BEGIN:STANDARD
TZOFFSETFROM:+0100
TZOFFSETTO:+0000
TZNAME:GMT
DTSTART:20251026T010000
END:STANDARD
BEGIN:DAYLIGHT
TZOFFSETFROM:+0000
TZOFFSETTO:+0100
TZNAME:BST
DTSTART:20260329T010000
END:DAYLIGHT
BEGIN:STANDARD
TZOFFSETFROM:+0100
TZOFFSETTO:+0000
TZNAME:GMT
DTSTART:20261025T010000
END:STANDARD
BEGIN:DAYLIGHT
TZOFFSETFROM:+0000
TZOFFSETTO:+0100
TZNAME:BST
DTSTART:20270328T010000
END:DAYLIGHT
BEGIN:STANDARD
TZOFFSETFROM:+0100
TZOFFSETTO:+0000
TZNAME:GMT
DTSTART:20271031T010000
END:STANDARD
END:VTIMEZONE
BEGIN:VEVENT
DTSTART;TZID=Europe/London:20260328T150000
DTEND;TZID=Europe/London:20260328T150000
DTSTAMP:20260421T114554
CREATED:20250627T153709Z
LAST-MODIFIED:20260327T222632Z
UID:10000320-1774710000-1774710000@scarboroughrugby.co.uk
SUMMARY:(A) Vikings vs Pontefract
DESCRIPTION:
URL:https://scarboroughrugby.co.uk/event/h-vikings-vs-pontefract-2/
LOCATION:Pontefract Rugby Union Football Club\, Pontefract South\, United Kingdom
CATEGORIES:Vikings
GEO:53.6744982372;-1.29217408615
END:VEVENT
END:VCALENDAR