BEGIN:VCALENDAR
VERSION:2.0
PRODID:-//Scarborough Rugby Union Football Club - ECPv6.15.20//NONSGML v1.0//EN
CALSCALE:GREGORIAN
METHOD:PUBLISH
X-WR-CALNAME:Scarborough Rugby Union Football Club
X-ORIGINAL-URL:https://scarboroughrugby.co.uk
X-WR-CALDESC:Events for Scarborough Rugby Union Football Club
REFRESH-INTERVAL;VALUE=DURATION:PT1H
X-Robots-Tag:noindex
X-PUBLISHED-TTL:PT1H
BEGIN:VTIMEZONE
TZID:Europe/London
BEGIN:DAYLIGHT
TZOFFSETFROM:+0000
TZOFFSETTO:+0100
TZNAME:BST
DTSTART:20240331T010000
END:DAYLIGHT
BEGIN:STANDARD
TZOFFSETFROM:+0100
TZOFFSETTO:+0000
TZNAME:GMT
DTSTART:20241027T010000
END:STANDARD
BEGIN:DAYLIGHT
TZOFFSETFROM:+0000
TZOFFSETTO:+0100
TZNAME:BST
DTSTART:20250330T010000
END:DAYLIGHT
BEGIN:STANDARD
TZOFFSETFROM:+0100
TZOFFSETTO:+0000
TZNAME:GMT
DTSTART:20251026T010000
END:STANDARD
BEGIN:DAYLIGHT
TZOFFSETFROM:+0000
TZOFFSETTO:+0100
TZNAME:BST
DTSTART:20260329T010000
END:DAYLIGHT
BEGIN:STANDARD
TZOFFSETFROM:+0100
TZOFFSETTO:+0000
TZNAME:GMT
DTSTART:20261025T010000
END:STANDARD
BEGIN:DAYLIGHT
TZOFFSETFROM:+0000
TZOFFSETTO:+0100
TZNAME:BST
DTSTART:20270328T010000
END:DAYLIGHT
BEGIN:STANDARD
TZOFFSETFROM:+0100
TZOFFSETTO:+0000
TZNAME:GMT
DTSTART:20271031T010000
END:STANDARD
END:VTIMEZONE
BEGIN:VEVENT
DTSTART;TZID=Europe/London:20260201T140000
DTEND;TZID=Europe/London:20260201T140000
DTSTAMP:20260421T114235
CREATED:20250922T133837Z
LAST-MODIFIED:20260112T123134Z
UID:10000359-1769954400-1769954400@scarboroughrugby.co.uk
SUMMARY:(A) Valkyries vs Driffield
DESCRIPTION:
URL:https://scarboroughrugby.co.uk/event/a-valkyries-vs-driffield/
LOCATION:Driffield RUFC\, Kellythorpe\, Driffield\, East Yorkshire\, YO25 9DW\, United Kingdom
CATEGORIES:Scarborough Valkyries
GEO:53.9943613;-0.4580012
X-APPLE-STRUCTURED-LOCATION;VALUE=URI;X-ADDRESS=Driffield RUFC Kellythorpe Driffield East Yorkshire YO25 9DW United Kingdom;X-APPLE-RADIUS=500;X-TITLE=Kellythorpe:geo:-0.4580012,53.9943613
END:VEVENT
BEGIN:VEVENT
DTSTART;TZID=Europe/London:20251101T141500
DTEND;TZID=Europe/London:20251101T141500
DTSTAMP:20260421T114235
CREATED:20250627T153707Z
LAST-MODIFIED:20251031T232257Z
UID:10000306-1762006500-1762006500@scarboroughrugby.co.uk
SUMMARY:(A) Vikings vs Driffield
DESCRIPTION:
URL:https://scarboroughrugby.co.uk/event/a-vikings-vs-driffield-4/
LOCATION:Driffield RUFC\, Kellythorpe\, Driffield\, East Yorkshire\, YO25 9DW\, United Kingdom
CATEGORIES:Vikings
GEO:53.9943613;-0.4580012
X-APPLE-STRUCTURED-LOCATION;VALUE=URI;X-ADDRESS=Driffield RUFC Kellythorpe Driffield East Yorkshire YO25 9DW United Kingdom;X-APPLE-RADIUS=500;X-TITLE=Kellythorpe:geo:-0.4580012,53.9943613
END:VEVENT
BEGIN:VEVENT
DTSTART;TZID=Europe/London:20251101T141500
DTEND;TZID=Europe/London:20251101T141500
DTSTAMP:20260421T114235
CREATED:20250627T153656Z
LAST-MODIFIED:20251031T230845Z
UID:10000287-1762006500-1762006500@scarboroughrugby.co.uk
SUMMARY:(A) Danesmen vs Driffield
DESCRIPTION:
URL:https://scarboroughrugby.co.uk/event/a-danesmen-vs-driffield-4/
LOCATION:Driffield RUFC\, Kellythorpe\, Driffield\, East Yorkshire\, YO25 9DW\, United Kingdom
CATEGORIES:Danesmen
GEO:53.9943613;-0.4580012
X-APPLE-STRUCTURED-LOCATION;VALUE=URI;X-ADDRESS=Driffield RUFC Kellythorpe Driffield East Yorkshire YO25 9DW United Kingdom;X-APPLE-RADIUS=500;X-TITLE=Kellythorpe:geo:-0.4580012,53.9943613
END:VEVENT
END:VCALENDAR