BEGIN:VCALENDAR
VERSION:2.0
PRODID:-//Scarborough Rugby Union Football Club - ECPv6.15.20//NONSGML v1.0//EN
CALSCALE:GREGORIAN
METHOD:PUBLISH
X-ORIGINAL-URL:https://scarboroughrugby.co.uk
X-WR-CALDESC:Events for Scarborough Rugby Union Football Club
REFRESH-INTERVAL;VALUE=DURATION:PT1H
X-Robots-Tag:noindex
X-PUBLISHED-TTL:PT1H
BEGIN:VTIMEZONE
TZID:Europe/London
BEGIN:DAYLIGHT
TZOFFSETFROM:+0000
TZOFFSETTO:+0100
TZNAME:BST
DTSTART:20240331T010000
END:DAYLIGHT
BEGIN:STANDARD
TZOFFSETFROM:+0100
TZOFFSETTO:+0000
TZNAME:GMT
DTSTART:20241027T010000
END:STANDARD
BEGIN:DAYLIGHT
TZOFFSETFROM:+0000
TZOFFSETTO:+0100
TZNAME:BST
DTSTART:20250330T010000
END:DAYLIGHT
BEGIN:STANDARD
TZOFFSETFROM:+0100
TZOFFSETTO:+0000
TZNAME:GMT
DTSTART:20251026T010000
END:STANDARD
BEGIN:DAYLIGHT
TZOFFSETFROM:+0000
TZOFFSETTO:+0100
TZNAME:BST
DTSTART:20260329T010000
END:DAYLIGHT
BEGIN:STANDARD
TZOFFSETFROM:+0100
TZOFFSETTO:+0000
TZNAME:GMT
DTSTART:20261025T010000
END:STANDARD
BEGIN:DAYLIGHT
TZOFFSETFROM:+0000
TZOFFSETTO:+0100
TZNAME:BST
DTSTART:20270328T010000
END:DAYLIGHT
BEGIN:STANDARD
TZOFFSETFROM:+0100
TZOFFSETTO:+0000
TZNAME:GMT
DTSTART:20271031T010000
END:STANDARD
END:VTIMEZONE
BEGIN:VEVENT
DTSTART;TZID=Europe/London:20260329T140000
DTEND;TZID=Europe/London:20260329T140000
DTSTAMP:20260421T113444
CREATED:20250922T134809Z
LAST-MODIFIED:20250922T134809Z
UID:10000367-1774792800-1774792800@scarboroughrugby.co.uk
SUMMARY:(H) Valkyries vs Driffield
DESCRIPTION:
URL:https://scarboroughrugby.co.uk/event/h-valkyries-vs-driffield/
LOCATION:Scarborough RUFC\, Silver Royd\, Scalby Road\, Scarborough\, North Yorkshire\, YO13 0NL\, United Kingdom
CATEGORIES:Scarborough Valkyries
GEO:54.3098235;-0.4451997
X-APPLE-STRUCTURED-LOCATION;VALUE=URI;X-ADDRESS=Scarborough RUFC Silver Royd Scalby Road Scarborough North Yorkshire YO13 0NL United Kingdom;X-APPLE-RADIUS=500;X-TITLE=Silver Royd\, Scalby Road:geo:-0.4451997,54.3098235
END:VEVENT
BEGIN:VEVENT
DTSTART;TZID=Europe/London:20260322T140000
DTEND;TZID=Europe/London:20260322T140000
DTSTAMP:20260421T113444
CREATED:20250922T134711Z
LAST-MODIFIED:20250922T134711Z
UID:10000366-1774188000-1774188000@scarboroughrugby.co.uk
SUMMARY:(A) Valkyries vs Malton & Norton
DESCRIPTION:
URL:https://scarboroughrugby.co.uk/event/a-valkyries-vs-malton-norton-2/
LOCATION:Malton & Norton RUFC\, The Gannock\, Old Malton Road\, Malton\, North Yorkshire\, YO17 7EY\, United Kingdom
CATEGORIES:Scarborough Valkyries
GEO:54.1399587;-0.7884367
X-APPLE-STRUCTURED-LOCATION;VALUE=URI;X-ADDRESS=Malton & Norton RUFC The Gannock Old Malton Road Malton North Yorkshire YO17 7EY United Kingdom;X-APPLE-RADIUS=500;X-TITLE=The Gannock\, Old Malton Road:geo:-0.7884367,54.1399587
END:VEVENT
BEGIN:VEVENT
DTSTART;TZID=Europe/London:20260222T140000
DTEND;TZID=Europe/London:20260222T140000
DTSTAMP:20260421T113444
CREATED:20250922T134455Z
LAST-MODIFIED:20250922T134455Z
UID:10000364-1771768800-1771768800@scarboroughrugby.co.uk
SUMMARY:(A) Valkyries vs Pocklington
DESCRIPTION:
URL:https://scarboroughrugby.co.uk/event/a-valkyries-vs-pocklington/
LOCATION:Pocklington RUFC\, Feathers Field\, Percy Road\, Pocklington\, East Yorkshire\, YO42 2QB\, United Kingdom
CATEGORIES:Scarborough Valkyries
GEO:53.9298347;-0.7727503
X-APPLE-STRUCTURED-LOCATION;VALUE=URI;X-ADDRESS=Pocklington RUFC Feathers Field Percy Road Pocklington East Yorkshire YO42 2QB United Kingdom;X-APPLE-RADIUS=500;X-TITLE=Feathers Field\, Percy Road:geo:-0.7727503,53.9298347
END:VEVENT
BEGIN:VEVENT
DTSTART;TZID=Europe/London:20260214T114500
DTEND;TZID=Europe/London:20260214T114500
DTSTAMP:20260421T113444
CREATED:20250922T134207Z
LAST-MODIFIED:20260210T153525Z
UID:10000363-1771069500-1771069500@scarboroughrugby.co.uk
SUMMARY:(H) Valkyries vs Selby
DESCRIPTION:
URL:https://scarboroughrugby.co.uk/event/h-valkyries-vs-selby/
LOCATION:Scarborough RUFC\, Silver Royd\, Scalby Road\, Scarborough\, North Yorkshire\, YO13 0NL\, United Kingdom
CATEGORIES:Scarborough Valkyries
GEO:54.3098235;-0.4451997
X-APPLE-STRUCTURED-LOCATION;VALUE=URI;X-ADDRESS=Scarborough RUFC Silver Royd Scalby Road Scarborough North Yorkshire YO13 0NL United Kingdom;X-APPLE-RADIUS=500;X-TITLE=Silver Royd\, Scalby Road:geo:-0.4451997,54.3098235
END:VEVENT
BEGIN:VEVENT
DTSTART;TZID=Europe/London:20260201T140000
DTEND;TZID=Europe/London:20260201T140000
DTSTAMP:20260421T113444
CREATED:20250922T133837Z
LAST-MODIFIED:20260112T123134Z
UID:10000359-1769954400-1769954400@scarboroughrugby.co.uk
SUMMARY:(A) Valkyries vs Driffield
DESCRIPTION:
URL:https://scarboroughrugby.co.uk/event/a-valkyries-vs-driffield/
LOCATION:Driffield RUFC\, Kellythorpe\, Driffield\, East Yorkshire\, YO25 9DW\, United Kingdom
CATEGORIES:Scarborough Valkyries
GEO:53.9943613;-0.4580012
X-APPLE-STRUCTURED-LOCATION;VALUE=URI;X-ADDRESS=Driffield RUFC Kellythorpe Driffield East Yorkshire YO25 9DW United Kingdom;X-APPLE-RADIUS=500;X-TITLE=Kellythorpe:geo:-0.4580012,53.9943613
END:VEVENT
BEGIN:VEVENT
DTSTART;TZID=Europe/London:20260125T140000
DTEND;TZID=Europe/London:20260125T140000
DTSTAMP:20260421T113444
CREATED:20250922T134338Z
LAST-MODIFIED:20260112T123214Z
UID:10000362-1769349600-1769349600@scarboroughrugby.co.uk
SUMMARY:(A) Valkyries vs York RI
DESCRIPTION:
URL:https://scarboroughrugby.co.uk/event/a-valkyries-vs-york-ri-3/
LOCATION:York RI RUFC\, New Lane\, Holgate\, North Yorkshire\, United Kingdom
CATEGORIES:Scarborough Valkyries
GEO:53.954822921405;-1.1102513446961
X-APPLE-STRUCTURED-LOCATION;VALUE=URI;X-ADDRESS=York RI RUFC New Lane Holgate North Yorkshire United Kingdom;X-APPLE-RADIUS=500;X-TITLE=New Lane:geo:-1.1102513446961,53.954822921405
END:VEVENT
BEGIN:VEVENT
DTSTART;TZID=Europe/London:20251214T140000
DTEND;TZID=Europe/London:20251214T140000
DTSTAMP:20260421T113444
CREATED:20250922T133727Z
LAST-MODIFIED:20250922T133727Z
UID:10000358-1765720800-1765720800@scarboroughrugby.co.uk
SUMMARY:(H) Valkyries vs Malton & Norton
DESCRIPTION:
URL:https://scarboroughrugby.co.uk/event/h-valkyries-vs-malton-norton/
LOCATION:Scarborough RUFC\, Silver Royd\, Scalby Road\, Scarborough\, North Yorkshire\, YO13 0NL\, United Kingdom
CATEGORIES:Scarborough Valkyries
GEO:54.3098235;-0.4451997
X-APPLE-STRUCTURED-LOCATION;VALUE=URI;X-ADDRESS=Scarborough RUFC Silver Royd Scalby Road Scarborough North Yorkshire YO13 0NL United Kingdom;X-APPLE-RADIUS=500;X-TITLE=Silver Royd\, Scalby Road:geo:-0.4451997,54.3098235
END:VEVENT
BEGIN:VEVENT
DTSTART;TZID=Europe/London:20251130T140000
DTEND;TZID=Europe/London:20251130T140000
DTSTAMP:20260421T113444
CREATED:20250920T115911Z
LAST-MODIFIED:20250920T123552Z
UID:10000353-1764511200-1764511200@scarboroughrugby.co.uk
SUMMARY:(H) Valkyries vs Beverley
DESCRIPTION:
URL:https://scarboroughrugby.co.uk/event/h-valkyries-vs-beverley/
LOCATION:Scarborough RUFC\, Silver Royd\, Scalby Road\, Scarborough\, North Yorkshire\, YO13 0NL\, United Kingdom
CATEGORIES:Scarborough Valkyries
GEO:54.3098235;-0.4451997
X-APPLE-STRUCTURED-LOCATION;VALUE=URI;X-ADDRESS=Scarborough RUFC Silver Royd Scalby Road Scarborough North Yorkshire YO13 0NL United Kingdom;X-APPLE-RADIUS=500;X-TITLE=Silver Royd\, Scalby Road:geo:-0.4451997,54.3098235
END:VEVENT
BEGIN:VEVENT
DTSTART;TZID=Europe/London:20251122T140000
DTEND;TZID=Europe/London:20251122T140000
DTSTAMP:20260421T113444
CREATED:20250920T115911Z
LAST-MODIFIED:20250920T123552Z
UID:10000356-1763820000-1763820000@scarboroughrugby.co.uk
SUMMARY:(H) Valkyries vs York
DESCRIPTION:
URL:https://scarboroughrugby.co.uk/event/h-valkyries-vs-york/
LOCATION:Scarborough RUFC\, Silver Royd\, Scalby Road\, Scarborough\, North Yorkshire\, YO13 0NL\, United Kingdom
CATEGORIES:Scarborough Valkyries
GEO:54.3098235;-0.4451997
X-APPLE-STRUCTURED-LOCATION;VALUE=URI;X-ADDRESS=Scarborough RUFC Silver Royd Scalby Road Scarborough North Yorkshire YO13 0NL United Kingdom;X-APPLE-RADIUS=500;X-TITLE=Silver Royd\, Scalby Road:geo:-0.4451997,54.3098235
END:VEVENT
BEGIN:VEVENT
DTSTART;TZID=Europe/London:20251109T140000
DTEND;TZID=Europe/London:20251109T140000
DTSTAMP:20260421T113445
CREATED:20250920T115911Z
LAST-MODIFIED:20250920T123552Z
UID:10000355-1762696800-1762696800@scarboroughrugby.co.uk
SUMMARY:(H) Valkyries vs Pocklington
DESCRIPTION:
URL:https://scarboroughrugby.co.uk/event/h-valkyries-vs-pocklington/
LOCATION:Scarborough RUFC\, Silver Royd\, Scalby Road\, Scarborough\, North Yorkshire\, YO13 0NL\, United Kingdom
CATEGORIES:Scarborough Valkyries
GEO:54.3098235;-0.4451997
X-APPLE-STRUCTURED-LOCATION;VALUE=URI;X-ADDRESS=Scarborough RUFC Silver Royd Scalby Road Scarborough North Yorkshire YO13 0NL United Kingdom;X-APPLE-RADIUS=500;X-TITLE=Silver Royd\, Scalby Road:geo:-0.4451997,54.3098235
END:VEVENT
BEGIN:VEVENT
DTSTART;TZID=Europe/London:20251004T114500
DTEND;TZID=Europe/London:20251004T114500
DTSTAMP:20260421T113445
CREATED:20250920T104511Z
LAST-MODIFIED:20251001T094317Z
UID:10000354-1759578300-1759578300@scarboroughrugby.co.uk
SUMMARY:(H) Valkyries vs York RI
DESCRIPTION:
URL:https://scarboroughrugby.co.uk/event/h-valkyries-vs-york-ri-2/
LOCATION:Scarborough RUFC\, Silver Royd\, Scalby Road\, Scarborough\, North Yorkshire\, YO13 0NL\, United Kingdom
CATEGORIES:Scarborough Valkyries
GEO:54.3098235;-0.4451997
X-APPLE-STRUCTURED-LOCATION;VALUE=URI;X-ADDRESS=Scarborough RUFC Silver Royd Scalby Road Scarborough North Yorkshire YO13 0NL United Kingdom;X-APPLE-RADIUS=500;X-TITLE=Silver Royd\, Scalby Road:geo:-0.4451997,54.3098235
END:VEVENT
END:VCALENDAR