BEGIN:VCALENDAR
VERSION:2.0
PRODID:-//Scarborough Rugby Union Football Club - ECPv6.15.20//NONSGML v1.0//EN
CALSCALE:GREGORIAN
METHOD:PUBLISH
X-WR-CALNAME:Scarborough Rugby Union Football Club
X-ORIGINAL-URL:https://scarboroughrugby.co.uk
X-WR-CALDESC:Events for Scarborough Rugby Union Football Club
REFRESH-INTERVAL;VALUE=DURATION:PT1H
X-Robots-Tag:noindex
X-PUBLISHED-TTL:PT1H
BEGIN:VTIMEZONE
TZID:Europe/London
BEGIN:DAYLIGHT
TZOFFSETFROM:+0000
TZOFFSETTO:+0100
TZNAME:BST
DTSTART:20240331T010000
END:DAYLIGHT
BEGIN:STANDARD
TZOFFSETFROM:+0100
TZOFFSETTO:+0000
TZNAME:GMT
DTSTART:20241027T010000
END:STANDARD
BEGIN:DAYLIGHT
TZOFFSETFROM:+0000
TZOFFSETTO:+0100
TZNAME:BST
DTSTART:20250330T010000
END:DAYLIGHT
BEGIN:STANDARD
TZOFFSETFROM:+0100
TZOFFSETTO:+0000
TZNAME:GMT
DTSTART:20251026T010000
END:STANDARD
BEGIN:DAYLIGHT
TZOFFSETFROM:+0000
TZOFFSETTO:+0100
TZNAME:BST
DTSTART:20260329T010000
END:DAYLIGHT
BEGIN:STANDARD
TZOFFSETFROM:+0100
TZOFFSETTO:+0000
TZNAME:GMT
DTSTART:20261025T010000
END:STANDARD
END:VTIMEZONE
BEGIN:VEVENT
DTSTART;TZID=Europe/London:20250913T150000
DTEND;TZID=Europe/London:20250913T150000
DTSTAMP:20260421T114422
CREATED:20250622T153707Z
LAST-MODIFIED:20250912T233824Z
UID:10000262-1757775600-1757775600@scarboroughrugby.co.uk
SUMMARY:(H) 1st XV vs Malton & Norton
DESCRIPTION:
URL:https://scarboroughrugby.co.uk/event/h-1st-xv-vs-malton-norton-3/
LOCATION:Scarborough RUFC\, Silver Royd\, Scalby Road\, Scarborough\, North Yorkshire\, YO13 0NL\, United Kingdom
CATEGORIES:1st XV
GEO:54.3098235;-0.4451997
X-APPLE-STRUCTURED-LOCATION;VALUE=URI;X-ADDRESS=Scarborough RUFC Silver Royd Scalby Road Scarborough North Yorkshire YO13 0NL United Kingdom;X-APPLE-RADIUS=500;X-TITLE=Silver Royd\, Scalby Road:geo:-0.4451997,54.3098235
END:VEVENT
BEGIN:VEVENT
DTSTART;TZID=Europe/London:20250906T150000
DTEND;TZID=Europe/London:20250906T150000
DTSTAMP:20260421T114422
CREATED:20250622T153707Z
LAST-MODIFIED:20250905T232503Z
UID:10000261-1757170800-1757170800@scarboroughrugby.co.uk
SUMMARY:(A) 1st XV vs Bradford Salem
DESCRIPTION:
URL:https://scarboroughrugby.co.uk/event/a-1st-xv-vs-bradford-salem-2/
LOCATION:Bradford Salem RUFC\, Shay Lane\, Heaton\, Bradford\, West Yorkshire\, BD9 6SL\, United Kingdom
CATEGORIES:1st XV
GEO:53.8208547;-1.7942139
X-APPLE-STRUCTURED-LOCATION;VALUE=URI;X-ADDRESS=Bradford Salem RUFC Shay Lane Heaton Bradford West Yorkshire BD9 6SL United Kingdom;X-APPLE-RADIUS=500;X-TITLE=Shay Lane\, Heaton:geo:-1.7942139,53.8208547
END:VEVENT
BEGIN:VEVENT
DTSTART;TZID=Europe/London:20250823T150000
DTEND;TZID=Europe/London:20250823T150000
DTSTAMP:20260421T114422
CREATED:20250607T233842Z
LAST-MODIFIED:20250621T220831Z
UID:10000256-1755961200-1755961200@scarboroughrugby.co.uk
SUMMARY:(H) 1st XV vs Blaydon
DESCRIPTION:
URL:https://scarboroughrugby.co.uk/event/h-1st-xv-vs-blaydon/
LOCATION:Scarborough Rugby Union Football Club\, 569 Scalby Road\, Lindhead\, United Kingdom
CATEGORIES:1st XV
GEO:54.309778796107;-0.44615579591571
X-APPLE-STRUCTURED-LOCATION;VALUE=URI;X-ADDRESS=Scarborough Rugby Union Football Club 569 Scalby Road Lindhead United Kingdom;X-APPLE-RADIUS=500;X-TITLE=569 Scalby Road:geo:-0.44615579591571,54.309778796107
END:VEVENT
BEGIN:VEVENT
DTSTART;TZID=Europe/London:20250815T180000
DTEND;TZID=Europe/London:20250815T180000
DTSTAMP:20260421T114422
CREATED:20250622T153707Z
LAST-MODIFIED:20250814T223824Z
UID:10000259-1755280800-1755280800@scarboroughrugby.co.uk
SUMMARY:(H) 1st XV vs Goole (Friday Evening)
DESCRIPTION:
URL:https://scarboroughrugby.co.uk/event/h-1st-xv-vs-goole-friday-evening/
LOCATION:Scarborough RUFC\, Silver Royd\, Scalby Road\, Scarborough\, North Yorkshire\, YO13 0NL\, United Kingdom
CATEGORIES:1st XV
GEO:54.3098235;-0.4451997
X-APPLE-STRUCTURED-LOCATION;VALUE=URI;X-ADDRESS=Scarborough RUFC Silver Royd Scalby Road Scarborough North Yorkshire YO13 0NL United Kingdom;X-APPLE-RADIUS=500;X-TITLE=Silver Royd\, Scalby Road:geo:-0.4451997,54.3098235
END:VEVENT
BEGIN:VEVENT
DTSTART;TZID=Europe/London:20250809T150000
DTEND;TZID=Europe/London:20250809T150000
DTSTAMP:20260421T114422
CREATED:20250622T153707Z
LAST-MODIFIED:20250808T220947Z
UID:10000258-1754751600-1754751600@scarboroughrugby.co.uk
SUMMARY:(H) 1st XV vs Guisborough/Beverley
DESCRIPTION:
URL:https://scarboroughrugby.co.uk/event/h-1st-xv-vs-guisborough-beverley/
LOCATION:Scarborough RUFC\, Silver Royd\, Scalby Road\, Scarborough\, North Yorkshire\, YO13 0NL\, United Kingdom
CATEGORIES:1st XV
GEO:54.3098235;-0.4451997
X-APPLE-STRUCTURED-LOCATION;VALUE=URI;X-ADDRESS=Scarborough RUFC Silver Royd Scalby Road Scarborough North Yorkshire YO13 0NL United Kingdom;X-APPLE-RADIUS=500;X-TITLE=Silver Royd\, Scalby Road:geo:-0.4451997,54.3098235
END:VEVENT
BEGIN:VEVENT
DTSTART;TZID=Europe/London:20250628T140000
DTEND;TZID=Europe/London:20250628T140000
DTSTAMP:20260421T114422
CREATED:20250617T202421Z
LAST-MODIFIED:20250627T221018Z
UID:10000257-1751119200-1751119200@scarboroughrugby.co.uk
SUMMARY:(H) Scarborough vs Ilkley RUFC - Social game
DESCRIPTION:
URL:https://scarboroughrugby.co.uk/event/h-scarborough-vs-ilkley-rufc-social-game/
LOCATION:Scarborough Rugby Union Football Club\, 569 Scalby Road\, Lindhead\, United Kingdom
CATEGORIES:1st XV
GEO:54.309778796107;-0.44615579591571
X-APPLE-STRUCTURED-LOCATION;VALUE=URI;X-ADDRESS=Scarborough Rugby Union Football Club 569 Scalby Road Lindhead United Kingdom;X-APPLE-RADIUS=500;X-TITLE=569 Scalby Road:geo:-0.44615579591571,54.309778796107
END:VEVENT
END:VCALENDAR